BEGIN:VCALENDAR
VERSION:2.0
PRODID:-//wp-events-plugin.com//7.1.7//EN
TZID:Europe/Berlin
X-WR-TIMEZONE:Europe/Berlin
BEGIN:VEVENT
UID:1@klimaentscheid-aalen.de
DTSTART;TZID=Europe/Berlin:20240317T070000
DTEND;TZID=Europe/Berlin:20240317T070000
DTSTAMP:20240313T012203Z
URL:https://klimaentscheid-aalen.de/events/test-event-tickets/
SUMMARY:Test Event Tickets
DESCRIPTION:
LOCATION:UtopiAA\, An d. Stadtkirche 18\, Aalen\, BW\, 73430\, Ostalbkreis\
 , Demokratische Volksrepublik Korea
X-APPLE-STRUCTURED-LOCATION;VALUE=URI;X-ADDRESS=An d. Stadtkirche 18\, Aale
 n\, BW\, 73430\, Ostalbkreis\, Demokratische Volksrepublik Korea;X-APPLE-R
 ADIUS=100;X-TITLE=UtopiAA:geo:0,0
END:VEVENT
BEGIN:VTIMEZONE
TZID:Europe/Berlin
X-LIC-LOCATION:Europe/Berlin
BEGIN:STANDARD
DTSTART:20231029T020000
TZOFFSETFROM:+0200
TZOFFSETTO:+0100
TZNAME:CET
END:STANDARD
END:VTIMEZONE
END:VCALENDAR